BEGIN:VCALENDAR
VERSION:2.0
PRODID:-//hacksw/handcal//NONSGML v1.0//EN
CALSCALE:GREGORIAN
BEGIN:VEVENT
DTEND:20260214T180000
UID:69e5e3df7768a
DTSTAMP:20260420T102919
LOCATION:Gelsenkirchener Straße 181 / Zollverein A 14 (Schacht XII\, Kohlenwäsche)\, 45309 Essen
DESCRIPTION:Die Schwerindustrie des Ruhrgebiets übte seit dem späten 19. Jahrhundert eine große Faszination auf Maler und Zeichner aus. In ihren Werken hielten sie die inzwischen häufig verschwundenen Anlagen, die Veränderung der Landschaft und die Auswirkungen auf Mensch und Umwelt fest.\n\nDie Industriemalerei entwickelte sich zwischen den akademischen Kunstströmungen und der Fotografie. Euphorisch bis kritisch spiegeln die Gemälde verschiedene gesellschaftliche und politische Einstellungen gegenüber der Industrie. Neben Außen- und Innenansichten, Landschafts- und Arbeiterdarstellungen zeigt die Ausstellung ihre romantischen und ideologischen Züge und stellt einzelne Künstler vor.\n\nLudwig Schönefeld stammt aus dem Ruhrgebiet. Über drei Jahrzehnte hat der Kommunikationsfachmann und Historiker Industriedarstellungen von bekannten als auch vielen unbekannten Künstler:innen zusammengetragen. Seit 2022 befindet sich die über 1.500 Objekte umfassende Sammlung in der Obhut der Ruhr Museums. Etwa 250 Gemälde und Grafiken wurden für die Ausstellung ausgewählt.
URL;VALUE=URI:
SUMMARY:Das Land der tausend Feuer. In­dus­trie­bil­der aus der Sammlung Ludwig Schönefeld
DTSTART:20250407T080000
END:VEVENT
END:VCALENDAR