BEGIN:VCALENDAR
VERSION:2.0
PRODID:-//hacksw/handcal//NONSGML v1.0//EN
CALSCALE:GREGORIAN
BEGIN:VEVENT
DTEND:20251130T180000
UID:69e5652d46117
DTSTAMP:20260420T012845
LOCATION:Grabenstr. 21\, 40878 Ratingen
DESCRIPTION:Im Jahr 2025 jährt sich die jüngste kommunale Neuordnung im Ratinger Raum zum 50. Mal. Das Museum greift dieses stadthistorische Ereignis des Jahres 1975 auf und eröffnet im Mai eine dokumentarische Ausstellung im Projektraum. Diese thematisiert darüber hinaus auch die beiden älteren kommunalen Neugliederungen, die in den Jahren 1910 und 1930 in Ratingen und den umliegenden Gemeinden umgesetzt wurden. Diese drei zum Teil einschneidenden Veränderungen in der Zugehörigkeit von Bürgern zu einer Gemeinde, werden durch Archivalien und Zeitungsartikel anschaulich gemacht.\nKonzipiert wird die Studioausstellung von Dr. Sebastian Barteleit, dem Leiter des Stadtarchiv Ratingen. Sein Buch zu diesem Thema erscheint im Frühjahr 2025 und ist u.a. im Museum erhältlich. Über die Ausstellung und das Buch hinaus bietet eine dreiteilige Vortragsreihe weiterführende Informationen sowie die Gelegenheit zum Austausch über die Stadtgeschichte Ratingens. Die Vorträge sind in der zweiten Jahreshälfte geplant. \n
URL;VALUE=URI:
SUMMARY:David gegen Goliath? Die kommunalen Neugliederungen im Ratinger Raum 1910 – 1930 – 1975
DTSTART:20250504T080000
END:VEVENT
END:VCALENDAR