BEGIN:VCALENDAR
VERSION:2.0
PRODID:-//hacksw/handcal//NONSGML v1.0//EN
CALSCALE:GREGORIAN
BEGIN:VEVENT
DTEND:20250602T180000
UID:69ea5422f144a
DTSTAMP:20260423T191722
LOCATION:Berger Allee 2\, 40213 Düsseldorf
DESCRIPTION:Die Ausstellung ist eine Kooperation mit dem Cecilien-Gymnasium und der Japanischen Internationalen Schule. Schülerinnen und Schüler beider Schulen sind zusammen mit dem Stadtmuseum der engen Verbindung zwischen Düsseldorf und Japan künstlerisch auf die Spur gegangen.\n\nIm Unterricht wurden verschiedene Aspekte des Themas beleuchtet sowie unterschiedliche künstlerische Techniken angewandt. Darüber hinaus haben die Schülerinnen und Schüler japanisch-deutsche Begegnungen hautnah erlebt: mal direkt über die Umsetzung gemeinsamer Kunstprojekte, mal über Medien, über Ausflüge oder Reisen. Diese Begegnungen stehen im Fokus der Ausstellung.\n\nHintergrund des Projektes ist, dass die beiden Schulen eine jahrelange Freundschaft verbindet und vor allem, dass Düsseldorf ein europaweit bedeutsamer Japan-Standort ist. Täglich finden in der Landeshauptstadt Begegnungen auf vielfältige Weise statt: zum Beispiel im Rahmen von Kooperationen, privaten Freundschaften, beim Betreten japanischer Restaurants und Geschäfte oder während eines Besuchs des Japan-Tags, dem größten japanischen Kultur- und Begegnungsfest Europas. Diese Verbindungen sind charakteristisch für die Landeshauptstadt, die 2019 mit der Präfektur Chiba einen Partnerschaftsvertrag schloss. Die Schirmherrschaft zur Ausstellung hat das Japanisches Generalkonsulat Düsseldorf übernommen.\n\n
URL;VALUE=URI:
SUMMARY:Kraft der Begegnung - Düsseldorf trifft Japan
DTSTART:20250424T080000
END:VEVENT
END:VCALENDAR