BEGIN:VCALENDAR
VERSION:2.0
PRODID:-//hacksw/handcal//NONSGML v1.0//EN
CALSCALE:GREGORIAN
BEGIN:VEVENT
DTEND:20250330T180000
UID:69e99caa3a924
DTSTAMP:20260423T061434
LOCATION:Ehrenhof 4-5\, 40479 Düsseldorf
DESCRIPTION:Passend zum Frühlingsanfang blüht und duftet es auch dieses Jahr wieder in den Sammlungsräumen des Kunstpalastes: Düsseldorfer Florist*innen setzen sich mit der Sammlung des Hauses auseinander und schaffen florale Interpretationen passend zu den Räumen oder zu einzelnen Werken. Bei der Auswahl der Arbeiten sowie der Gestaltung ihres damit korrespondierenden Blumenarrangements haben sie freie Hand.\n\nVergleichbare Ausstellungen finden in den USA jährlich in mehreren Museen statt, darunter das Saint Louis Art Museum oder das Museum of Fine Arts, Boston. In Europa ist das Format beispielsweise im Aargauer Kunsthaus etabliert.\n\nDas Palastblühen findet nach dem großen Erfolg im Jahr 2024 bereits zum zweiten Mal im Kunstpalast statt. \n
URL;VALUE=URI:
SUMMARY:Palastblühen 
DTSTART:20250321T080000
END:VEVENT
END:VCALENDAR