BEGIN:VCALENDAR
VERSION:2.0
PRODID:-//hacksw/handcal//NONSGML v1.0//EN
CALSCALE:GREGORIAN
BEGIN:VEVENT
DTEND:20250223T180000
UID:69ea9c22f0d61
DTSTAMP:20260424T002434
LOCATION:Friedrich-Wilhelm-Str. 40\, 47051 Duisburg
DESCRIPTION: Miquel Navarro hat das Werk für die Internationale Bauausstellung (IBA) Emscher Park geschaffen. Zur Endpräsentation der IBA im Jahr 1999 baute er sie eigenhändig in der Kraftzentrale im Landschaftspark Duisburg-Nord auf. Danach hat er sie dem Publikum als interaktives Kunstwerk zur freien Gestaltung überlassen. Das Lehmbruck Museum lädt herzlich dazu ein, der eigenen Kreativität freien Lauf zu lassen und eine eigene Stadt der Träume zu erschaffen!
URL;VALUE=URI:
SUMMARY:Miquel Navarro: Rund um die Stadt
DTSTART:20241024T080000
END:VEVENT
END:VCALENDAR