BEGIN:VCALENDAR
VERSION:2.0
PRODID:-//hacksw/handcal//NONSGML v1.0//EN
CALSCALE:GREGORIAN
BEGIN:VEVENT
DTEND:20250601T180000
UID:69e7e98ba2167
DTSTAMP:20260421T231803
LOCATION:Mannesmannufer 1b\, 40213 Düsseldorf
DESCRIPTION:Kleine Tiere, die eine starke Anziehung beim Bildbetrachter* auslösen: die Malerin Melanie Loureiro verknüpft sie in ihren intensiven Darstellungen von überdimensionierten Pflanzen und Insekten zu fast beklemmenden Tableaus. So gibt sie einer in Monokultur und selektiver Zucht verstummten Vegetation eine farbige, detailreiche und teilweise fantastisch anmutende Stimme und bringt uns das Leben und Wirken von Raupen, Schmetterlingen und Spinnen so nahe, als würden wir sie unter einem Mikroskop betrachten – und dabei auch größenmäßig näher an sie heranrücken. In ihrer Motivwahl ist Melanie Loureiro beeinflusst vom Insektensterben und dessen Folgen für das Ökosystem. So taucht in ihren Bildern der Schwarze Schwalbenschwanz, sowie die korrespondierende Raupe häufiger auf. Diese Art war in den 1980er Jahren durch den Einsatz von Pestiziden beinahe ausgestorben. Die Motte, deren Verschwinden durch ihr vorwiegend nächtliches Dasein weniger offensichtlich ist, ist ein weiteres Sujet der Malerin. \n\nLoureiro ist, unter anderem, in der Tradition der Wissenschaftskünstlerinnen Maria Sibylla Merian und Cornelia Hesse-Honegger zu sehen, aber auch Ingensieps „Geschichte der Pflanzenseele“, Hugh Raffles „Instektopädie“ und Zoë Schlangers „The Light Eaters“, ein aktuell populäres Werk über Pflanzenintelligenz, geben Impulse für diese Ausstellung, die dazu beitragen möchte, das Netz des Lebens, in das wir genauso eingeflochten sind wie Tiere und Pflanzen, besser zu verstehen. \n\nDie Künstlerin wuchs in Portugal und Deutschland auf und schloß 2022 ihr Studium an der Kunstakademie Düsseldorf bei Prof. Ellen Gallagher ab. Sie interessiert sich seit langem für die Kommunikationen zwischen Pflanze-Insekt-Mensch und die Wirkung von Heil- und Giftpflanzen auf den Körper.
URL;VALUE=URI:
SUMMARY:Melanie Loureiro. Die Verbundenheit der Kreaturen
DTSTART:20250215T080000
END:VEVENT
END:VCALENDAR