BEGIN:VCALENDAR
VERSION:2.0
PRODID:-//hacksw/handcal//NONSGML v1.0//EN
CALSCALE:GREGORIAN
BEGIN:VEVENT
DTEND:20250330T180000
UID:69eb930a57726
DTSTAMP:20260424T175802
LOCATION:Ehrenhof 4-5\, 40479 Düsseldorf
DESCRIPTION:Passend zum Frühlingsanfang blüht und duftet es in den Sammlungsräumen des Kunstpalastes: Düsseldorfer Florist*innen setzen sich mit der Sammlung des Hauses auseinander und schaffen florale Interpretationen passend zu den Räumen oder zu einzelnen Werken. Bei der Auswahl der Arbeiten sowie der Gestaltung ihres damit korrespondierenden Blumenarrangements haben sie freie Hand.
URL;VALUE=URI:
SUMMARY:Palastblühen
DTSTART:20250320T080000
END:VEVENT
END:VCALENDAR