BEGIN:VCALENDAR
VERSION:2.0
PRODID:-//hacksw/handcal//NONSGML v1.0//EN
CALSCALE:GREGORIAN
BEGIN:VEVENT
DTEND:20250119T180000
UID:69ed8d2a3a123
DTSTAMP:20260426T055730
LOCATION:Im Krausfeld 10\, 53111 Bonn
DESCRIPTION:Die Künstlerin Cheryl McIntosh lebt seit Jahren in Bonn und ist bekannt für ihre kraftvollen Werke, die die Betrachtenden zur inneren Einkehr einladen. Ihre Arbeiten reichen von Acrylbildern über experimentelle Arbeiten mit Kaffee bis hin zu eindrucksvollen Textilcollagen. Mittels wiederkehrender Motive, wie der Verwendung von Rost, Kaffee oder bestimmten Stoffen, Mustern und Farben, schafft sie eine subtile und doch kraftvolle Verbindung zwischen den einzelnen Werken und vermittelt eine kohärente künstlerische Erzählung. Die Ausstellung wird durch viel informatives Material ergänzt, welches einen Einblick in die intensive Recherche und die Hintergründe der verschiedenen Motive gibt.\n\nBesonders hervorzuheben ist die Premiere ihrer neuen zweiteiligen Großinstallation Mmer3 pa da w'anim / Better Days Ahead, deren Titel aus der ghanaischen Sprache „Twi“ stammt und „bessere Tage voraus“ bedeutet. Diese Installation ist, wie viele ihrer anderen Arbeiten, von einer starken Verwurzelung in der Geschichte und den persönlichen Erfahrungen der Künstlerin geprägt, die sich intensiv mit Herausforderungen, Widerstandsfähigkeit und schwarzer Geschichte auseinandersetzt.\n\nMcIntosh verleiht den oft vergessenen Geschichten durch ihre Kunst eine starke Stimme. Ihre Werke, die sich mit Verzweiflung, Widerstandsfähigkeit und der Suche nach Identität befassen, regen zum Nachdenken über die anhaltenden Auswirkungen von Unterdrückung und Ungerechtigkeit an.\n
URL;VALUE=URI:
SUMMARY:Cheryl McIntosh – Unveiling Humanity: The Colors of Discrimination
DTSTART:20241020T080000
END:VEVENT
END:VCALENDAR