BEGIN:VCALENDAR
VERSION:2.0
PRODID:-//hacksw/handcal//NONSGML v1.0//EN
CALSCALE:GREGORIAN
BEGIN:VEVENT
DTEND:20241031T180000
UID:69e637c3b122d
DTSTAMP:20260420T162715
LOCATION:Schloß Jägerhof - Jacobistr. 2\, 40211 Düsseldorf
DESCRIPTION:Vor 250 Jahren erschien Johann Wolfgang Goethes Briefroman „Die Leiden des jungen Werthers“, in dem die tragische Geschichte des jungen Werther erzählt wird, der sich hoffnungslos in die bereits verlobte Lotte verliebt und sich schließlich, verzweifelt über seine unerfüllte Liebe, das Leben nimmt. Nur wenige Monate zuvor, im Juli 1774, führte Goethes Rheinreise den jungen Schriftsteller zum ersten Mal in die aufstrebende Kunstmetropole Düsseldorf, wo er, in unmittelbarer Nähe zum Schloss Jägerhof, bei der befreundeten Familie Jacobi wohnte.\n\nGoethes Roman war ein sensationeller Erfolg weit über die deutschen Landesgrenzen heraus. Die dargestellte Gefühlsintensität führte zu einem regelrechten „Werther-Fieber“, das Leserinnen und Leser mit den Romanfiguren in neuartiger Weise fühlen und leiden ließ. Die Sonderausstellung präsentiert den „Werther“-Kult mit seltenen Büchern und vielen graphischen Illustrationen aus der reichhaltigen Spezialsammlung des Goethe-Museums.
URL;VALUE=URI:
SUMMARY:Werther: Ein europäisches Ereignis
DTSTART:20240927T080000
END:VEVENT
END:VCALENDAR