BEGIN:VCALENDAR
VERSION:2.0
PRODID:-//hacksw/handcal//NONSGML v1.0//EN
CALSCALE:GREGORIAN
BEGIN:VEVENT
DTEND:20250223T180000
UID:69eb08076b41d
DTSTAMP:20260424T080455
LOCATION:Philosophenweg 55\, 47051 Duisburg
DESCRIPTION:Das Museum Küppersmühle würdigt das Schaffen von Miquel Barceló, dem international renommiertesten spanischen Künstler, mit der ersten Einzelausstellung in Deutschland. Kurator Kay Heymer hat gemeinsam mit dem Künstler eine Werkauswahl von zentralen Arbeiten aus allen Schaffensphasen zusammengestellt.\n \nMiquel Barceló (*1957 in Felanitx, Mallorca) ist heute der international erfolgreichste spanische Künstler. Er ist bekannt für seine vielseitigen Werke, die von großformatigen Gemälden, Keramiken und Bronzeskulpturen bis hin zu zahlreichen Skizzenbüchern und Buchillustrationen reichen. Das MKM zeigt die erste groß angelegte Einzelausstellung dieses Künstlers in Deutschland mit etwa 70 Gemälden aus allen Schaffensperioden und einer Auswahl von Keramiken sowie ein Kabinett mit Skizzen, Entwürfen für Großprojekte und Objekten aus der Sammlung des Künstlers - ein faszinierender Einblick in die Bildwelt eines der großen Maler unserer Zeit.\nSein packendes Werk ist gekennzeichnet von einer radikalen Konfrontation gegensätzlicher Aspekte - vom Alltäglichen zum Monumentalen, vom Lebensfrohen zum Morbiden. Den Ausgangspunkt der Konzeption bildet die bescheidene Gattung des Stilllebens, eine der Grundlagen der malerischen Tradition in Europa. Die spanische Sonderform des Stilllebens ist unter dem Namen bodegón bekannt und bezeichnet Gemälde, deren Motive die Präsentation von einfachen Lebensmitteln und Küchengeräten sind. Für Barcelós existenziellen Zugriff auf die Malerei war das Stillleben mit seiner ambivalenten Metaphorik über Leben und Tod stets eine wesentliche Inspirationsquelle.\n
URL;VALUE=URI:
SUMMARY:MIQUEL BARCELÓ. Vida y Muerte
DTSTART:20240928T080000
END:VEVENT
END:VCALENDAR