BEGIN:VCALENDAR
VERSION:2.0
PRODID:-//hacksw/handcal//NONSGML v1.0//EN
CALSCALE:GREGORIAN
BEGIN:VEVENT
DTEND:20250119T180000
UID:69eb2ca218b30
DTSTAMP:20260424T104106
LOCATION:Helmut-Kohl-Allee 2\, 53113 Bonn
DESCRIPTION:Weibliche Bildnisse, die an Schaufensterpuppen erinnern, Hüte, Schleifen, Kleiderschränke: welche tiefere Bedeutung führt all diese Dinge zusammen? \nDie Gemälde des Ausnahmekünstlers und Einzelgängers Bruno Goller lassen zwar punktuell assoziative Verknüpfungen zu, sperren sich aber gegen eine eindeutige Lesbarkeit. In seiner unverwechselbaren malerischen Handschrift löst er Dinge aus ihrem alltäglichen Umfeld und ihrer Funktionalität, um sie mit neuer Bedeutung aufzuladen. Sie verweigern sich letzten Endes dem Zugriff der Interpret:innen und gewinnen gerade daraus ihre Strahlkraft: die Magie des Rätselhaften.\nDie Ausstellung umfasst rund 100 Gemälde und Papierarbeiten und ist damit eine der bislang umfangreichsten Einzelpräsentationen des Malers Bruno Goller.\nAnlässlich der Ausstellung erscheint im Snoeck Verlag ein Katalog.\n
URL;VALUE=URI:
SUMMARY:BRUNO GOLLER - Retrospektive 1922 – 1992
DTSTART:20240918T080000
END:VEVENT
END:VCALENDAR