BEGIN:VCALENDAR
VERSION:2.0
PRODID:-//hacksw/handcal//NONSGML v1.0//EN
CALSCALE:GREGORIAN
BEGIN:VEVENT
DTEND:20241110T180000
UID:69ed51175239d
DTSTAMP:20260426T014111
LOCATION:Gelsenkirchener Straße 181 / Zollverein A 14 (Schacht XII\, Kohlenwäsche)\, 45309 Essen
DESCRIPTION:Die Fotografie-Ausstellung »Raum für Zukunft. Bilder der Industriekultur im Ruhrgebiet« markiert nicht nur das 25-jährige Jubiläum der Route Industriekultur. Aufgrund ihres amateurfotografischen Ansatzes setzt sie auch einen bedeutenden Meilenstein in der Dokumentation und Wertschätzung der industriellen Vergangenheit und Gegenwart im Ruhrgebiet. Die facettenreichen Bilder laden die Besucher:innen ein, die Industriekultur aus verschiedensten Blickwinkel zu betrachten. Zusammen sind sie ein beeindruckendes Ergebnis der Verbundenheit der Menschen im Ruhrgebiet mit ihrer Region und deren Geschichte – nach 25 Jahren Route Industriekultur.\n\nDie Ausstellung vereint 34 unterschiedliche Arbeiten von Amateurfotograf:innen zum Thema „Industriekultur im Ruhrgebiet“. Die 60 Fotografien erzählen Geschichten von ehemaligen und aktiven Industrieanlagen, von städtebaulichen Entwicklungen und von Kunst und Kultur im Kontext der industriellen Geschichte. Sie zeigen die beeindruckende Architektur, die sich mit dem Lauf der Zeit verändert hat, sowie die Menschen, die in diesem Umfeld leben und sich die Orte zu eigen gemacht haben. Ob farbenfroh oder in Schwarzweiß, jede Fotografie vermittelt einen einzigartigen Eindruck von der Industriekultur im Ruhrgebiet.\n\nSie zeigen einen deutlichen Fokus auf Bauwerke und Gesamtanlagen im Stadtbild sowie Variationen des Themas Industrielandschaft. Nächtlich erleuchtete Landmarken, spektakuläre Haldenlandschaften und monumentale Bauten eignen sich hervorragend als fotografische Motive. Wo Menschen die Szenerien beleben, befinden sie sich in engem Kontakt zu den genannten Orten. Sie nutzen diese als Orte der Entspannung, Freizeitgestaltung, aber auch als neue Arbeitsstätten. Viele Beiträge des Wettbewerbes zeigen, wie sich Industrieanlagen fast selbstverständlich in das Stadtbild einfügen und zur Normalität gehören. Andere betonen, wie sie aus ihrer Umgebung hervorstechen.
URL;VALUE=URI:
SUMMARY:Raum für Zukunft. Bilder der Industriekultur im Ruhrgebiet
DTSTART:20240530T080000
END:VEVENT
END:VCALENDAR