BEGIN:VCALENDAR
VERSION:2.0
PRODID:-//hacksw/handcal//NONSGML v1.0//EN
CALSCALE:GREGORIAN
BEGIN:VEVENT
DTEND:20241027T180000
UID:69eb3b06a6c46
DTSTAMP:20260424T114230
LOCATION:Ehrenhof 2\, 40479 Düsseldorf
DESCRIPTION:Made in Düsseldorf ist eine Ausstellungsreihe der Stadtsparkasse Düsseldorf in Kooperation mit dem NRW-Forum. \n\nSie widmet sich zeitgenössischen Künstler*innen, die durch ihr Studium, ihren Wohnort oder durch künstlerische Inhalte in Verbindung mit Düsseldorf und dem Rheinland stehen. In der sechsten Ausstellung mit dem Titel Licht und Schatten werden fotografische Arbeiten aus der Sammlung der Stadtsparkasse Düsseldorf von Janice Guy, Martina Sauter, Elger Esser, Anna Vogel, Eileen Quinlan und Frauke Dannert gezeigt. Alle Positionen verhandeln die Grenzen und Möglichkeiten der Fotografie und fächern die vielen Schattierungen des Mediums auf
URL;VALUE=URI:
SUMMARY:Licht und Schatten. Made in Düsseldorf #6
DTSTART:20240913T080000
END:VEVENT
END:VCALENDAR