BEGIN:VCALENDAR
VERSION:2.0
PRODID:-//hacksw/handcal//NONSGML v1.0//EN
CALSCALE:GREGORIAN
BEGIN:VEVENT
DTEND:20241027T180000
UID:69e6a666ef4bf
DTSTAMP:20260421T001918
LOCATION:Benrather Schlossallee 100-108\, 40597 Düsseldorf
DESCRIPTION:"RETROSPEKTIV! Eine fotografische Geschichte von Schloss Benrath 1870 bis heute" im Museum für Gartenkunst ist die erste Ausstellung zur Fotogeschichte von Schloss und Park Benrath und zeichnet das fotografische Geschehen der letzten 150 Jahre nach. Die Ausstellung zeigt die Vielzahl an unterschiedlichen Einsatzgebieten der Fotografie auf: von Denkmalpflege über Tourismus, alltägliche familiäre Knipserei, politische und öffentliche Ereignisse bis hin zu Publizistik, Werbung und Kunst. Nachvollziehbar wird, wie Schloss Benrath auf der Basis von Fotografien als ein herausragendes Symbol der Düsseldorfer Geschichte präsentiert wurde. 
URL;VALUE=URI:
SUMMARY:RETROSPEKTIV! Eine fotografische Geschichte von Schloss Benrath 1870 bis heute 
DTSTART:20240517T080000
END:VEVENT
END:VCALENDAR