BEGIN:VCALENDAR
VERSION:2.0
PRODID:-//hacksw/handcal//NONSGML v1.0//EN
CALSCALE:GREGORIAN
BEGIN:VEVENT
DTEND:20241110T180000
UID:69e6b47ba0ba4
DTSTAMP:20260421T011923
LOCATION:Konrad-Adenauer-Platz 8\, 51465 Bergisch Gladbach
DESCRIPTION:Informationen aus vergangener Zeit überwuchern die Oberfläche der Welt. Texte sind nicht mehr lesbar, Datenspeicher werden zu nutzlosem Material, ausgedient Bibliotheken werden zu rätselhaften Ruinen fragmentierten Wissens. Die Künstlerin Jenny Michel (*1975 in Worms; lebt und arbeitet in Berlin) nimmt uns mit in vergangene Utopien und verweist mit ihren ästhetischen Gebilden auf das dystopisch Zukünftige. I hre Kunst spricht Intellekt und Gefühl gleichermaßen an und ihr Medium ist das der Collage, obgleich Zeichnung, Modell, Skulptur, Wand oder Rauminstallation zunächst anderes vermuten lassen würden. Jenny Michel hat sich den Materialien Papier und Holz ver schrieben, die von hoher haptischer Qualität sind. Scheinbar Alltägliches und Abfall werden zum Baustoff ihrer künstlerischen Manifestationen. Über Jahre hinweg ist so ein dichtes Werk entstanden, das eine Gegenerzählung zu den dominierenden Narrativen der Wissenschaft bildet.
URL;VALUE=URI:
SUMMARY:Jenny Michel: Soft Ruins
DTSTART:20240727T080000
END:VEVENT
END:VCALENDAR