BEGIN:VCALENDAR
VERSION:2.0
PRODID:-//hacksw/handcal//NONSGML v1.0//EN
CALSCALE:GREGORIAN
BEGIN:VEVENT
DTEND:20241027T180000
UID:69ea84ef488e8
DTSTAMP:20260423T224535
LOCATION:Konrad-Adenauer-Platz 8\, 51465 Bergisch Gladbach
DESCRIPTION:Seit jeher haben Bienen die Menschen fasziniert. Schon griechische und römische Philosophen wie Aristoteles oder Vergil haben über sie berichtet. Bienen und ihre Produkte finden sich auch in den Werken zeitgenössischer Künstler wie bei Joseph Beuys, Hede Bühl, Felix Droese, Michael Buthe, Timm Ulrichs und anderen Künstlerinnen und Künstlern Eine Auswahl ihrer Werke stehen im Mittelpunkt der Ausstellung. Die Bienen brauchen die Menschen nicht wir Pressemitteilung aber brauchen die Bienen zum Erhalt einer blühenden Umwelt und zur Sicherstellung unserer Nahrung. In der Ausstellung geht es um den neuen Blick auf Kunstwerke vergangener Jahrzehnte, in denen Bienen, Wachs und Honig zum Thema werden.
URL;VALUE=URI:
SUMMARY:Honig für Kunst und Gesellschaft. Bienen und ihre Produkte in Werken von Joseph Beuys\, Hede Bühl\, Felix Droese u.a
DTSTART:20240713T080000
END:VEVENT
END:VCALENDAR