BEGIN:VCALENDAR
VERSION:2.0
PRODID:-//hacksw/handcal//NONSGML v1.0//EN
CALSCALE:GREGORIAN
BEGIN:VEVENT
DTEND:20250601T180000
UID:69e9cef772467
DTSTAMP:20260423T094911
LOCATION:Gelsenkirchener Str. 181\, 45309 Essen
DESCRIPTION:Die Ausstellung in der ersten Etage präsentiert die besten Produkte des Jahres 2024 – die derzeitigen Meilensteine im internationalen Produktdesign, die in den 51 Kategorien des Wettbewerbs von einer international besetzten Jury ausgewählt wurden. Sie erfüllen die vier Qualitäten guten Designs, die Qualität der Funktion, des Gebrauchs, der Verführung und der Verantwortung. Diese Produkte setzen neue Standards in ihrer jeweiligen Branche und heben sich durch ihre Innovationskraft und ihre Gestaltung in funktionaler und ästhetischer Hinsicht klar vom Wettbewerb ab. Bei jedem Produkt werden diese vier Qualitäten anhand einer Infografik anschaulich gemacht. Hier erfahren Sie mehr über die Designqualitäten.\n\nRund 1.500 weitere, im Red Dot Award: Product Design ausgezeichnete Produkte, werden zudem in der Sonderausstellung „Design on Stage“ auf fünf Etagen im Red Dot Design Museum präsentiert.
URL;VALUE=URI:
SUMMARY:Milestones in Contemporary Design 2024–2025
DTSTART:20240625T080000
END:VEVENT
END:VCALENDAR