BEGIN:VCALENDAR
VERSION:2.0
PRODID:-//hacksw/handcal//NONSGML v1.0//EN
CALSCALE:GREGORIAN
BEGIN:VEVENT
DTEND:20250112T180000
UID:69ea02814005e
DTSTAMP:20260423T132905
LOCATION:Helmut-Kohl-Allee 2\, 53113 Bonn
DESCRIPTION:Der „Raum für Demokratie“ ist Ausstellungsraum und Werkstatt zugleich. Hier verbinden sich Perspektiven aus der Sammlung des Kunstmuseums Bonn mit denen der Besucher:innen.\n\nAnlässlich des 75. Jubiläums des Grundgesetzes widmet das Kunstmuseum Bonn einen Sammlungsraum dem Thema Demokratie.  Kunstwerke der vergangenen 75 Jahre blicken aus verschiedenen Zeiten auf die deutsche Geschichte, die Gesellschaft und auf demokratische Werte. Von Mai bis Dezember finden im Raum für Demokratie regelmäßig Workshops statt, die in der partizipativen Gestaltung des DigitalGuides des Kunstmuseums Bonn münden. Abrufbar über QR-Codes, fungiert der DigitalGuide im Raum für Demokratie als Plattform für eine mehrstimmige Kunstvermittlung. Die Besucher:innen kommen zu Wort, teilen und reflektieren ihre Assoziationen und Eindrücke. Zusätzliche Textimpulse im Ausstellungsraum regen zum Schreiben, Lesen und zu Gesprächen an.\n\nDie Liste der Künstler:innen umfasst Benjamin Bergmann, Joseph Beuys, Harry Fränkel, Andreas Gursky, Paul Klee, Barbara Klemm, Erik van Lieshout, Sigmar Polke, Anys Reimann, Ulrike Rosenbach und Klaus Staeck.
URL;VALUE=URI:
SUMMARY:RAUM FÜR DEMOKRATIE
DTSTART:20240525T080000
END:VEVENT
END:VCALENDAR