BEGIN:VCALENDAR
VERSION:2.0
PRODID:-//hacksw/handcal//NONSGML v1.0//EN
CALSCALE:GREGORIAN
BEGIN:VEVENT
DTEND:20250209T180000
UID:69e96617c06a9
DTSTAMP:20260423T022143
LOCATION:Wilhelmshofallee 97\, 47800 Krefeld
DESCRIPTION:Anna K.E. (*1986 in Tiflis, Georgien, lebt in New York, USA) entwickelt architektonische Konstruktionen, Settings und skulpturale Modelle wie sie auch spontan eigene Aktionen filmisch festhält, um der Relation zwischen subjektivem Körper und sozialem Umraum nachzuspüren. Die moderne Architektur des frühen 20. Jahrhunderts spielt stets eine zentrale Rolle in ihrem Werk. Spielerisch und anarchisch zugleich durchbricht Anna K.E. Normen und festgelegte soziale Gefüge. Mit ihren Arbeiten thematisiert sie das menschliche Maß in einer von Haltlosigkeit und Freiheit gleichermaßen geprägten Umwelt. Für die Ausstellung in Haus Esters entwickelt Anna K.E. eine auf den Ort bezogene Gesamtinstallation mit neuen Arbeiten.\nNach ihrem Studium an der Kunstakademie Düsseldorf erhielt Anna K.E. zahlreiche internationale Preise und Ausstellungen und bespielte 2019 den georgischen Pavillon auf der Biennale in Venedig.
URL;VALUE=URI:
SUMMARY:Anna K.E. HLHE DIALOG. Der menschliche Maßstab
DTSTART:20241006T080000
END:VEVENT
END:VCALENDAR