BEGIN:VCALENDAR
VERSION:2.0
PRODID:-//hacksw/handcal//NONSGML v1.0//EN
CALSCALE:GREGORIAN
BEGIN:VEVENT
DTEND:20241110T180000
UID:69e84d72d267c
DTSTAMP:20260422T062418
LOCATION:Wuppertaler Str. 160\, 42653 Solingen-Gräfrath
DESCRIPTION:Vom 2. bis 10. November bieten wir wieder den jungen Künstlerinnen und Künstlern der weiterführenden Solinger Schulen eine Projektionsfläche für ihre Kunstwerke.\n\nOhne festes Motto gewährt diese Ausstellung großen gestalterischen Freiraum, welcher die Vielfalt der künstlerischen Arbeiten begünstigt. Wir freuen uns dadurch jedes Jahr über Qualität, Anspruch und Originalität in jeglicher Kunstform, wie z.B. Bildern, Malereien, Zeichnungen, Drucktechniken, Skulpturen und Installationen.\n\nAm Ende der Ausstellung trifft dann eine Jury und das Publikum eine Auswahl, um die besten Beiträge der Schulen finanziell zu belohnen.
URL;VALUE=URI:
SUMMARY:Klasse Kunst!
DTSTART:20241102T080000
END:VEVENT
END:VCALENDAR