BEGIN:VCALENDAR
VERSION:2.0
PRODID:-//hacksw/handcal//NONSGML v1.0//EN
CALSCALE:GREGORIAN
BEGIN:VEVENT
DTEND:20240407T180000
UID:69eb4dacc1b43
DTSTAMP:20260424T130204
LOCATION:Markt 46\, 53721 Siegburg
DESCRIPTION:Zum fünften Mal wird 2024 der Siegburger Keramikpreis verliehen. Er ist aktuellen keramischen Strömungen gewidmet und richtet sich an professionelle Keramikerinnen und Keramiker. Unter den eingereichten Werken wählt eine Fachjury die Preisträger aus. In diesem Jahr steht der Preis nicht unter einem Motto, die individuellen Werke konnten themenunabhängig eingereicht werden. Lassen Sie sich überraschen von einer Vielzahl und Vielfalt internationaler Keramiken, die mit handwerklicher Präzision und innovativer Gestaltung überzeugen und einen experimentellen Umgang mit dem Material erproben.
URL;VALUE=URI:
SUMMARY:5. SIEGBURGER KERAMIKPREIS
DTSTART:20240204T080000
END:VEVENT
END:VCALENDAR