BEGIN:VCALENDAR
VERSION:2.0
PRODID:-//hacksw/handcal//NONSGML v1.0//EN
CALSCALE:GREGORIAN
BEGIN:VEVENT
DTEND:20240428T180000
UID:69e7440d7909d
DTSTAMP:20260421T113157
LOCATION:Burgplatz 30\, 40213 Düsseldorf
DESCRIPTION:Vor 40 Jahren zog das SchifffahrtMuseum in den Schlossturm ein. Seither sind das Museum und der Schlossturm zu einer Einheit zusammengewachsen. Das Wahrzeichen und bedeutende Denkmal der Landeshauptstadt ist mit der modernen und attraktiven Museumsgestaltung heute ein Besuchermagnet. Eine Entwicklung, die ohne ein enormes bürgerschaftliches Engagement nicht denkbar wäre. Mit der Sonderausstellung "Vor Anker" feiert das SchifffahrtMuseum jetzt das 40-jährige Bestehen.
URL;VALUE=URI:
SUMMARY:Vor Anker
DTSTART:20240113T080000
END:VEVENT
END:VCALENDAR