BEGIN:VCALENDAR
VERSION:2.0
PRODID:-//hacksw/handcal//NONSGML v1.0//EN
CALSCALE:GREGORIAN
BEGIN:VEVENT
DTEND:20240421T180000
UID:69eb55d6289ba
DTSTAMP:20260424T133654
LOCATION:Obenmarspforten\, 50667 Köln
DESCRIPTION:Im Fenstersaal seiner Barockabteilung öffnet das Wallraf die Türen zu einem traumhaften Sammlerkabinett: Darin prunken Gemälde von Stars, die im 17. Jahrhundert hell am niederländischen Kunsthimmel strahlten: Jan Brueghel d.Ä., Jacob van Ruisdael, Willem Kalf und Gerrit Dou, um nur einige zu nennen. Die Ausstellung „Sammlerträume" zeigt erstmals die hochkarätigen Barockgemälden und -zeichnungen einer deutschen Privatsammlung, die das Kölner Museum jüngst als Dauerleihgabe erhielt.\n\nSeit Anfang der 1970er Jahre hat der anonyme Sammler mit großer Kennerschaft und Passion diese „Sternstunden niederländischer Barockkunst" zusammengetragen. Die in der Ausstellung präsentierten Sommer- und Winterlandschaften, kostbaren Stillleben, Stadt- und Flusspanoramen, zechenden Bauern und galanten Kavaliere, Kircheninterieurs und Porträts spiegeln sowohl die Vielfalt und Qualität der niederländischen Barockkunst als auch die bedingungslose Sammelleidenschaft eines privaten Kunstliebhabers wider.\n\nZur Ausstellung erscheint die zweite Ausgabe des beliebten Barockmagazins BAROQUE. Das „Magazin für barockes Lebensgefühl“ ist ab Mai ´23 im Cedon Museumsshop oder auf www.cedon.de erhältlich.\n\nTIPP: Lassen Sie sich doch beim Museumsbesuch von niederländischer Barockmusik begleiten. Auf Spotify finden Sie eine von Kuratorin Anja Sevcik eigens für die Ausstellung zusammengestellte Playlist.
URL;VALUE=URI:
SUMMARY:SAMMLERTRÄUME: STERNSTUNDEN NIEDERLÄNDISCHER BAROCKKUNST
DTSTART:20230526T080000
END:VEVENT
END:VCALENDAR