BEGIN:VCALENDAR
VERSION:2.0
PRODID:-//hacksw/handcal//NONSGML v1.0//EN
CALSCALE:GREGORIAN
BEGIN:VEVENT
DTEND:20240407T180000
UID:69e61692ee6de
DTSTAMP:20260420T140538
LOCATION:Helmut-Kohl-Allee 4\, 53113 Bonn
DESCRIPTION:Anna Oppermann (1940–1993) hat ein großes Werk hinterlassen, das neu entdeckt werden will. Die Bundeskunsthalle hat es sich zur Aufgabe gemacht, erstmals eine umfassende Retrospektive des reichhaltigen und komplexen Schaffens der deutschen Konzeptkünstlerin auszurichten. Ergebnisse der in den letzten Jahren gewachsenen Forschung werden ebenfalls in die Retrospektive einfließen.\nOppermann war als Schlüsselfigur der deutschen Konzeptkunst ab den 1960er-Jahren im konstruktiven Austausch mit Künstler*innen ihrer Zeit. Durch ihre Teilnahme unter anderem an der documenta 6 und 8 in Kassel war sie früh im internationalen Kontext bekannt. Der von ihr in den frühen 1970er-Jahren geprägte Begriff des „Ensembles“ für ihre prozesshaft angelegten Arrangements umfasst sowohl das installierte Werk als auch die zugrundeliegende Methode. Die Ensembles aus Notizen, Zeichnungen, Fotografien, Gedrucktem und Objekten belegen ihr radikales Verständnis eines Werkes: Es ist offen sowie dialogisch angelegt, und der Prozess ist Teil des Werkes. Sprache ist neben den bildnerischen Werkteilen ein wesentlicher Bestandteil der Ensembles.\nÜberbordende, komplexe, aber auch kleinere Assemblagen, rhizomartige Konstellationen erlauben ein Eintauchen in Anna Oppermanns Spurensuche und -sicherung. Die Ausstellung ist eine Kooperation mit dem Nachlass Anna Oppermann.\n
URL;VALUE=URI:
SUMMARY:ANNA OPPERMANN
DTSTART:20231208T080000
END:VEVENT
END:VCALENDAR