BEGIN:VCALENDAR
VERSION:2.0
PRODID:-//hacksw/handcal//NONSGML v1.0//EN
CALSCALE:GREGORIAN
BEGIN:VEVENT
DTEND:20231101T180000
UID:69e67201a591f
DTSTAMP:20260420T203545
LOCATION:Im Krausfeld 10\, 53111 Bonn
DESCRIPTION:
URL;VALUE=URI:
SUMMARY:Hildegard von Bingen zum 925. Geburtstag (1098 – 1179) Die Naturforscherin\, Briefeschreiberin\, Kirchenlehrerin und Visionärin
DTSTART:20230610T080000
END:VEVENT
END:VCALENDAR