BEGIN:VCALENDAR
VERSION:2.0
PRODID:-//hacksw/handcal//NONSGML v1.0//EN
CALSCALE:GREGORIAN
BEGIN:VEVENT
DTEND:20240204T180000
UID:69e5dc87b399c
DTSTAMP:20260420T095759
LOCATION:Grabenstr. 21\, 40878 Ratingen
DESCRIPTION:Im Oeuvre von Carol Pilars de Pilar, Jg. 1961, nimmt der Mensch eine zentrale Rolle ein. Seit 2004 entstehen Porträts auf Papier, ihre Modelle malt die Künstlerin ohne Vorzeichnung direkt in Aquarellfarbe. Dabei lässt sich eine intensive Hinwendung zu den porträtierten Personen spüren, deren Alter und Herkunft sehr unterschiedlich sind. In jüngster Zeit macht die Künstlerin Audioaufnahmen, in denen die Porträtierten von ihrem Leben und Erfahrungen im Alltag erzählen. \nEine solche neue Soundinstallation in 30 Sprachen ist auch Teil der Ratinger Ausstellung. Die verschiedenen Sprachen vermischen sich zu einer vielstimmigen Melodie, einzelne Stimmen erkennbar, andere fremd. Der Besucher hört die Klänge und schreitet durch eine Installation von langen Stoffbahnen. Ganz gegensätzlich hierzu zeigt die Künstlerin außerdem expressive, eher kleine Tonfiguren. Die unterschiedlichen Figuren werfen Fragen zu den Themen Weiblichkeit, Männlichkeit und Transgender auf.\n\nCarol Pilars de Pilar, geboren in Bad Godesberg, begann 1980 als Restauratorin an verschiedenen Museen und arbeitet seit 1985 als freischaffende Künstlerin, sie lebt in Düsseldorf.\n\nDie Ausstellung im Museum Ratingen findet im Obergeschoss statt. Die eingehende Beobachtung der menschlichen Figur und das Medium Keramik schlagen eine Brücke zur museumseigenen Porzellansammlung von Johann Peter Melchior. \n\n
URL;VALUE=URI:
SUMMARY:Carol Pilars de Pilar
DTSTART:20230922T080000
END:VEVENT
END:VCALENDAR