BEGIN:VCALENDAR
VERSION:2.0
PRODID:-//hacksw/handcal//NONSGML v1.0//EN
CALSCALE:GREGORIAN
BEGIN:VEVENT
DTEND:20230107T180000
UID:69e75abf4ff07
DTSTAMP:20260421T130847
LOCATION:Friedrich-Ebert-Str. 42\, 47799 Krefeld
DESCRIPTION:Jedes Kind im Grundschulalter in Deutschland hat schon einmal den Namen »Hitler«\ngehört und dass »er« die »Juden« verfolgt hat – auch »Auschwitz« ist in diesem Zusammenhang häufig bekannt. Diesen Namen und Orten begegnet man im Alltag selbst auf der Straße, zum Beispiel auf den Stolpersteinen. Wenn dann Fragen kommen, sind die Eltern, Großeltern oder Pädagoginnen und Pädagogen häufig unvorbereitet.\n\nDas Buch „Du wirst gerettet werden“ und die hierauf basierende mobile Ausstellung\nwollen diese Lücke schließen und Hilfen anbieten.
URL;VALUE=URI:
SUMMARY:DIE CELLISTIN VON AUSCHWITZ – DIE GESCHICHTE VON ANITA LASKER-WALLFISCH
DTSTART:20221106T080000
END:VEVENT
END:VCALENDAR