BEGIN:VCALENDAR
VERSION:2.0
PRODID:-//hacksw/handcal//NONSGML v1.0//EN
CALSCALE:GREGORIAN
BEGIN:VEVENT
DTEND:20221011T180000
UID:69ea2ebe91ce8
DTSTAMP:20260423T163750
LOCATION:Helmut-Kohl-Allee 4\, 53113 Bonn
DESCRIPTION:ÖFFENTLICHE FÜHRUNGEN\nSIMONE DE BEAUVOIR UND „DAS ANDERE GESCHLECHT“\nDienstags, 17–18 Uhr\n\n3 €/ermäßigt 1,50 €, zzgl. Eintritt in die Ausstellung\nTickets sind an der Kasse oder über Bonnticket erhältlich.\nArtCard-Reservierung: T +49 228 9171–200
URL;VALUE=URI:
SUMMARY:ÖFFENTLICHE FÜHRUNGEN: SIMONE DE BEAUVOIR
DTSTART:20221011T170000
END:VEVENT
END:VCALENDAR