BEGIN:VCALENDAR
VERSION:2.0
PRODID:-//hacksw/handcal//NONSGML v1.0//EN
CALSCALE:GREGORIAN
BEGIN:VEVENT
DTEND:20230228T180000
UID:69e588b926d15
DTSTAMP:20260420T040025
LOCATION:Benrather Schlossallee 100-108\, 40597 Düsseldorf
DESCRIPTION:Die Ausstellung im Corps de Logis präsentiert eine Auswahl der schönsten und charakteristischsten Exemplare der historischen Uhrensammlung von Schloss Benrath. Das Schloss verfügt noch heute über drei fest verbaute Uhren, darunter die 1771 von der Werkstatt Johann Jacob Möllingers hergestellte Schlossuhr an der Nordfassade sowie die von Guillaume Cornille angefertigte Wanduhr im Kuppelsaal. Die meisten mobilen Wand- und Kaminuhren der Ursprungsausstattung gingen im Zuge veränderter Besitzverhältnisse verloren. Seit 1945 bildete die Neuanschaffung historischer Uhren eine wichtige Aufgabe der Sammlungsergänzung. Vielfach konnten Uhren erworben werden, die aus dem unmittelbaren Umfeld des kurfürstlichen Bauherrenpaares stammten. Jüngst gelang die Erwerbung einer ganz besonderen Uhr – einer Tischpendule, die der kurpfälzische Uhrmacher Guillaume Cornille in Düsseldorf um 1770 für Schloss Benrath anfertigte.\n\nDie 15 Uhren der Benrather Sammlung werden überwiegend in ihrem ursprünglichen räumlichen Kontext präsentiert: auf Kamingesimsen und Möbeln sowie an den mit Seidentapeten verkleideten Wänden. Sie bildeten im 17. und 18. Jahrhundert erstrangige Kunst- und Luxusobjekte. Dabei darf nicht vergessen werden, dass die Entwicklung der Uhrentechnik das Ergebnis wissenschaftlicher Forschung war. Berühmte Naturwissenschaftler wie Galileo Galilei, Christiaan Huygens, Gottfried Wilhelm Leibniz oder Isaac Newton trugen zur Verbesserung der Uhrentechnik bei, die stellvertretend für die naturwissenschaftliche Revolution des 17. Jahrhunderts steht.\n\nMit dem neuen Ausstellungsformat der "Interventionen" möchte die Stiftung Schloss und Park Benrath all diejenigen einladen, die einen willkommenen Anlass suchen, Schloss Benrath erneut zu besuchen.
URL;VALUE=URI:
SUMMARY:KURFÜRSTLICHE ZEITMESSER. DIE UHRENSAMMLUNG VON SCHLOSS BENRATH
DTSTART:20220513T080000
END:VEVENT
END:VCALENDAR