BEGIN:VCALENDAR
VERSION:2.0
PRODID:-//hacksw/handcal//NONSGML v1.0//EN
CALSCALE:GREGORIAN
BEGIN:VEVENT
DTEND:20221106T180000
UID:69e7450aaf7fa
DTSTAMP:20260421T113610
LOCATION:Talstraße 300\, 40822 Mettmann
DESCRIPTION:Im Fokus der Ausstellung steht der außergewöhnliche Fund einer europäischen Säbelzahnkatze aus Schöningen, Niedersachsen. Vor 300.000 Jahren lebten diese eiszeitlichen Räuber, denen auch die frühen Menschen in Europa begegnet sind. Auf Grundlage der Funde von Zähnen und Knochen aus Schöningen haben Wissenschaftlerinnen und Wissenschaftler eine lebensechte Rekonstruktion der Urzeitkatze erschaffen.\n\nDie Ausstellung lässt die Welt der Urzeitjäger mit vielen informativen Details und anschaulichen Bildern wieder lebendig werden.\n\nWer schon immer wissen wollte, wieso die Säbelzahnkatze kein Säbelzahntiger ist, kann das in der Ausstellung herausfinden. An vielen Mitmachstationen lässt sich ausprobieren, wie stark der Kiefer einer Säbelzahnkatze war und wie Katzen im Vergleich zu uns sehen.\n\nEine Ausstellung der paläon GmbH.
URL;VALUE=URI:
SUMMARY:CATS - Eiszeitliche Jäger
DTSTART:20220514T080000
END:VEVENT
END:VCALENDAR