BEGIN:VCALENDAR
VERSION:2.0
PRODID:-//hacksw/handcal//NONSGML v1.0//EN
CALSCALE:GREGORIAN
BEGIN:VEVENT
DTEND:20220918T180000
UID:69e7755472ade
DTSTAMP:20260421T150212
LOCATION:Benrather Schlossallee 100-108\, 40597 Düsseldorf
DESCRIPTION:Wir alle kennen sie als Früchte aus dem Supermarkt: Orangen, Pampelmusen, Mandarinen und Zitronen. Vor drei Jahrhunderten bildeten immergrüne Pomeranzen-, Zitronen- und Orangenbäume ein fürstliches Statussymbol. In der Barockzeit kam kein repräsentativer Garten ohne die teuren Gewächse aus. Sie standen für die Unsterblichkeit einer Dynastie und wurden leidenschaftlich gesammelt.\n\nDie fürstliche Sammelwut hat ihren Ursprung in dem antiken Mythos vom Raub der Goldenen Äpfel aus dem Garten der Hesperiden durch den tapferen Helden Herkules. In seiner Nachfolge sahen sich barocke Fürsten, die keine Mühen und Mittel scheuten, um die Überwinterung der frostempfindlichen Zitruspflanzen zu gewährleisten. Eigens dafür errichtete prachtvolle Orangeriegebäude setzten wichtige bauliche Akzente in ihren Parkanlagen. Die Zitrusmanie erfasste auch das Bürgertum, das sich allerorten mit Pomeranzengärten schmückte. Wer es sich leisten konnte, ließ die Früchte und Blüten zu Parfüm, Heilmitteln oder Kochzutaten verarbeiten.\n\nDie Ausstellung im Museum für Gartenkunst beleuchtet mit Gemälden, dekorativen Grafiken, Skulpturen, Porzellan, Modellen und aufwändig illustrierten Schriften facettenreich die Leidenschaft für Zitrusfrüchte zwischen dem 16. und dem 19. Jahrhundert.\n\nZum ersten Mal werden auch Schloss Benrath, Düsseldorf sowie das Rheinland als Orte fürstlicher Orangeriekultur dargestellt. Historische Zitrussorten, die in Kübeln im Innenhof des östlichen Kavalierflügels sowie rund um das Schloss aufgestellt sind, geben den Besucher:innen einen unmittelbaren Eindruck von der Vielfalt dieser goldenen Früchte. Sie erwartet zudem ein sehr umfangreiches und außergewöhnliches Begleitprogramm für Groß und Klein, das zeitnah auf der Website verfügbar sein wird.
URL;VALUE=URI:
SUMMARY:Zitrusmanie. Goldene Früchte in fürstlichen Gärten
DTSTART:20220407T080000
END:VEVENT
END:VCALENDAR