BEGIN:VCALENDAR
VERSION:2.0
PRODID:-//hacksw/handcal//NONSGML v1.0//EN
CALSCALE:GREGORIAN
BEGIN:VEVENT
DTEND:20211231T180000
UID:69eaafe65cd79
DTSTAMP:20260424T014854
LOCATION:Kastellstraße 9\, 47574 Goch
DESCRIPTION:Im Zentrum der Ausstellung steht die in den letzten Tagen entstandene Raumzeichnung „Conversazione“. In unserem Sammlungsraum entstand ein spannungsreicher Dialog, ein Gespräch, eine Herausforderung, zwischen der sich im Raum entfalteten Linienzeichnung und einigen von der Künstlerin an der Wand und im Raum belassenen Kunstwerke von Günter Uecker, Damaris Kerkhoff, Auke de Vries, Georg Ettl und Gereon Krebber.\n\nBegleitend zu „Conversazione“ zeigt die Künstlerin in weiteren Räumen Werkgruppen aus den letzten drei Jahren und stellt ihnen zwei Arbeiten von 1992/94 gegenüber.
URL;VALUE=URI:
SUMMARY:Beate Terfloth
DTSTART:20211101T080000
END:VEVENT
END:VCALENDAR