BEGIN:VCALENDAR
VERSION:2.0
PRODID:-//hacksw/handcal//NONSGML v1.0//EN
CALSCALE:GREGORIAN
BEGIN:VEVENT
DTEND:20220213T180000
UID:69e4d243b6b33
DTSTAMP:20260419T150155
LOCATION:Mannesmannufer 1b\, 40213 Düsseldorf
DESCRIPTION:Mit Eliza Ballesteros, Paul Czerlitzki, Nicholas Grafia & Mikolaj Sobczak, Frieder Haller, Alesha Klein, Björn Knapp, Harkeerat Mangat, Mira Mann, Donja Nasseri, Murat Önen, Linda Skellington und Ji hyung Song\n\n2021 wird die schweizerische Stiftung Vordemberge-Gildewart zum zweiten Mal zu Gast im KIT sein. Aus einer Auswahl von jungen Künstler*innen aus Düsseldorf wird eine oder ein Preisträger*in von einer Jury ausgewählt und erhält ein Stipendium in Höhe von 60.000 Schweizer Franken.
URL;VALUE=URI:
SUMMARY:Stipendium Vordemberge-Gildewart
DTSTART:20211126T080000
END:VEVENT
END:VCALENDAR