BEGIN:VCALENDAR
VERSION:2.0
PRODID:-//hacksw/handcal//NONSGML v1.0//EN
CALSCALE:GREGORIAN
BEGIN:VEVENT
DTEND:20211031T180000
UID:69e4d247e3dfd
DTSTAMP:20260419T150159
LOCATION:Im Krausfeld 10\, 53111 Bonn
DESCRIPTION:Zur Unterstützung der durch die Flut betroffenen Künstlerinnen hat das Museum kurzfristig eine Verkaufsausstellung für Künstlerinnen aus dem Katastrophengebiet organisieren können. \nManche der gezeigten Bilder sind von der Flut beschädigt worden und  haben dadurch einen neuen Charakter bekommen, andere sind dem Hochwasser nur knapp entgangen oder zeigen die Gefühlslage nach der Flutkatastrophe.\n\nEva Vahjen, eine der teilnehmenden Künstlerinnen beschreibt passend: "Künstlerisches Arbeiten hat für mich viel mit dem Erwandern von Landschaften zu tun. Halte ich inne, wird für mich nach und nach klar, warum ich einen Punkt so und nicht anders erreicht habe. Dabei ist das Reine und Schöne zwar rein und schon, ich lasse es aber vorüberziehen, es scheint mir weniger interessant. Der zarte Missklang in der Harmonie, der Bruch, die Irritation, das, was nicht stimmt, scheint mir spannender."
URL;VALUE=URI:
SUMMARY:Flut - Künstlerinnen im Katastrophengebiet
DTSTART:20210909T080000
END:VEVENT
END:VCALENDAR