BEGIN:VCALENDAR
VERSION:2.0
PRODID:-//hacksw/handcal//NONSGML v1.0//EN
CALSCALE:GREGORIAN
BEGIN:VEVENT
DTEND:20220206T180000
UID:69e74cf4f2a71
DTSTAMP:20260421T120956
LOCATION:Schulstr. 4\, 40213 Düsseldorf
DESCRIPTION:Das Hetjens - Deutsches Keramikmuseum präsentiert vom 9. September bis zum 6. Februar die neue Sonderausstellung "Im Tau des Morgens – Highlights japanischer Keramik aus 160 Jahren". Die Herstellung von Keramik wird in Japan besonders hoch angesehen. Anlässlich des 160-jährigen Jubiläums der deutsch-japanischen Freundschaft und im Rahmen der diesjährigen Japan-Tage, am 11./12. September, zeigt das Hetjens ausgewählte Exponate japanischer Keramikkunst aus drei Jahrhunderten, darunter Gefäßkeramiken aus der Sammlung Prof. Helmut Hentrichs. \n\nDie Entwicklung der japanischen Keramikkunst 1853 erzwang eine Flotte der Amerikaner unter dem Kommando des Seeoffiziers Matthew C. Perry die Öffnung Nippons für ausländische Märkte. Die Wiederaufnahme der Handelsbeziehung mit dem Westen, nach über 200 Jahren, ebnete auch den Weg für einen bis dato nicht gekannten kulturellen Austausch, in dessen Zuge japanische Kunstgegenstände große Beliebtheit erlangten. Vor allem die elfenbeinfarbenen Satsuma-Keramiken mit ihren prächtigen Malereien erregten auf den Weltausstellungen in Wien (1873) und Philadelphia (1876) großes Aufsehen und entwickelten sich zu wahren Exportschlagern.\n\nIm 20. Jahrhundert dienten die Schöpfungen japanischer Studiokeramiker zahlreichen westlichen Kollegen als Inspiration. Hier gilt Kanjirö Kawai als einer der wegweisenden Töpfer Japans, die während der „mingei"-Bewegung (wörtl. „Kunst des Volkes") die traditionelle Volkskunst zu einer neuen Blüte getrieben hatten. Nach seinem Keramikstudium in Tokio war er für das Kyoto Ceramic Testing Institute tätig, an dem er den einflussreichen Keramiker Hamada Shöji kennenlernte. Dieser erlangte in Europa vor allem durch seine enge Zusammenarbeit in den frühen 1920er-Jahren mit dem britischen Töpfer Bernard Leach Bekanntheit. Europäische Studiokeramiker orientierten sich in den kommenden Jahrzehnten an der japanischen Ästhetik und den traditionsreichen Herstellungstechniken wie dem Raku-Brand.\n\nZeitgenössische Keramikkünstler bringen die plastische Qualität des Tons bis an die Grenzen des Materials für bildhauerische Schöpfungen, die vor allem natürliche Formen zum Vorbild haben. Beeindruckend durch ihre Größe und ihre biomorphe Gestalt sind die Plastiken des Keramikkünstlers Harumi Nakashima, der in seiner Werkstatt unweit Nagoyas die charakteristischen blauen Punkte auf der Objektoberfläche anbringt. Auch die lange Tradition der Glasurtechnik wird von heutigen Künstlern weitergeführt: So greift Hideaki Miyamura mit seinen Lüsterglasuren eine Technik auf, die im 9. Jahrhundert in Mesopotamien aufkam und im Europa des Jugendstils eine Renaissance erlebte. Die Exponate belegen nicht nur die hohe technische Fertigkeit der Kunstschaffenden, sondern zeigen auch, wie lebendig und vielseitig die Keramikkunst bis heute in Japan ist.\n
URL;VALUE=URI:
SUMMARY:Im Tau des Morgens – Highlights japanischer Keramik aus 160 Jahren
DTSTART:20210909T080000
END:VEVENT
END:VCALENDAR