BEGIN:VCALENDAR
VERSION:2.0
PRODID:-//hacksw/handcal//NONSGML v1.0//EN
CALSCALE:GREGORIAN
BEGIN:VEVENT
DTEND:20220121T180000
UID:69eb4dacea13b
DTSTAMP:20260424T130204
LOCATION:Hauptstr. 83 / Ecke Freiherr-vom-Stein-Straße\, 40764 Langenfeld
DESCRIPTION:Im zweiten Teil der Doppelschau zur Neuen Sachlichkeit aus der Sammlung Frank Brabant zeigt das Stadtmuseum Werke mit dem thematischen Schwerpunkt des Verismus. Die Werke nehmen die Lebenssituation in den 1920er Jahren in den Fokus, die sich für viele Menschen weniger golden und eher düster und schwierig zeigten. Die politische Situation spielt dabei ebenso eine Rolle, wie gesellschaftliche Umbrüche und wirtschaftliche Nöte. Viele Künstler reagierten mit einer brutalen, unmittelbaren und grotesken Bildsprache auf das Erlebte und die aktuellen Missstände in der Republik. Einige waren im nur wenige Jahre zurückliegenden Ersten Weltkrieg Soldaten an der Front gewesen und nahmen das Erlebte in ihre Arbeiten auf. Wegbereiter dieses neuen schonungslosen und kritischen Realismus waren Otto Dix, George Grosz und Georg Scholz, die auch in der Ausstellung vertreten sind. 
URL;VALUE=URI:
SUMMARY:MIT KRITISCHEM BLICK - Die Neue Sachlichkeit der 20er Jahre - Verismus
DTSTART:20210912T080000
END:VEVENT
END:VCALENDAR