BEGIN:VCALENDAR
VERSION:2.0
PRODID:-//hacksw/handcal//NONSGML v1.0//EN
CALSCALE:GREGORIAN
BEGIN:VEVENT
DTEND:20230101T180000
UID:69e512820af03
DTSTAMP:20260419T193602
LOCATION:Grabbeplatz 5\, 40213 Düsseldorf
DESCRIPTION:Die Intervention „Die Sammlung. Befragen und Weiterdenken“ ist ein weiterführender Teil der aktuellen Kampagne „Die Sammlung. Weiterdenken“. Entlang der Frage „Was repräsentiert eine Sammlung?“ werden in mehreren Kapiteln individuelle Werke der Kunstsammlung Nordrhein-Westfalen näher vorgestellt.\n\nZugleich knüpft das Format an aktuelle gesellschaftliche Diskussionen an und möchte einen Perspektivwechsel auf die Ideen und Theorien der Moderne ermöglichen. Ziel ist es, in der Sammlung des K20 einen Raum zu bieten, in dem sich die Besucher und Besucherinnen mit den historischen, sozialen und politischen Entstehungsbedingungen zentraler Schlüsselwerke der klassischen Moderne auseinandersetzen können. Gezeigt werden einzelne Sammlungswerke in neuen Dialogen, historische Fotografien in einer Vitrine sowie erweiterte Bilderschilder und Wandtexte. Zudem wird eine Auswahl an thematischer Literatur in der Rotunde mit Sitzecke zur Verfügung stehen. Geplant ist, die einzelnen Interventionen auf der Webseite der Kunstsammlung Nordrhein-Westfalen zu archivieren. Für nachfolgende Kapitel sind öffentliche Gespräche angedacht.\n\nGezeigt werden folgende Kapitel:\n\nDas Erbe Werner Schmalenbachs\nDie Gründung der Kunstsammlung Nordrhein-Westfalen\nJuli 2021 – Dezember 2021\n\nIm Wandel der Zeit\nZum Umgang mit kolonialen Vorstellungen und Traditionen\nAb Frühjahr 2022\n\nLücken und Leerstellen\nDie wegweisenden Malerinnen der Moderne\nAb Sommer 2022
URL;VALUE=URI:
SUMMARY:Die Sammlung. Befragen und Weiterdenken
DTSTART:20210706T080000
END:VEVENT
END:VCALENDAR