BEGIN:VCALENDAR
VERSION:2.0
PRODID:-//hacksw/handcal//NONSGML v1.0//EN
CALSCALE:GREGORIAN
BEGIN:VEVENT
DTEND:20210613T180000
UID:69e660b0199ba
DTSTAMP:20260420T192152
LOCATION:Austraße 9\, 52156 Monschau
DESCRIPTION:Die Ausstellung widmet sich dem Rollenspiel mit Identitäten. Was macht die Identität eines Menschen aus? Welche Rolle spielen hierbei das Geschlecht, die Religion oder die soziale Stellung in der Gesellschaft? Die Frage nach der eigenen Identität steht im Zentrum der Ausstellung. Sie zeigt, wie Künstler*innen in ihren Arbeiten die Grenzen des Annehmbaren ausloten, neue soziale Rollen erproben und gesellschaftliche Tabus überschreiten. Während einige Fotokünstler*innen sich mit Posen des Fremden inszenieren, nutzen andere ihren Körper als Medium für multiple Identitäten. \n\nIn Zusammenarbeit mit Magnum Photos Paris und der Stiftung Jersey Heritage, gefördert durch die Victor Rolff-Stiftung.
URL;VALUE=URI:
SUMMARY:Das bin ich\, sicher? That’s me! Sure? Claude Cahun\, Philippe Halsman\, Jürgen Klauke\, Martin Liebscher & Inge Morath
DTSTART:20210321T080000
END:VEVENT
END:VCALENDAR