BEGIN:VCALENDAR
VERSION:2.0
PRODID:-//hacksw/handcal//NONSGML v1.0//EN
CALSCALE:GREGORIAN
BEGIN:VEVENT
DTEND:20201122T180000
UID:69ea950bef73d
DTSTAMP:20260423T235419
LOCATION:Konrad-Adenauer-Platz 8\, 51465 Bergisch Gladbach
DESCRIPTION:In der Reihe “Ortstermin” \n\nIn seinem fotografischen Langzeitprojekt legt der Becher-Schüler Martin Rosswog (*1950) den Fokus auf eine dokumentarische Beschreibung von ländlichen Wohn- und Lebensräumen. Seine Bildreihen beziehen historisch Gewachsenes wie auch Modernes ein, stellen es gelegentlich sogar in einen Vergleich. Dabei ist der Blick aber nie nostalgisch-verklärt – sein Vorgehen ist systematisch, seine Bildsprache sachlich. \n\nDen Zeichen der Zeit widmen sich auch die sinnlich-zarten Zeichnungen von Jutta Dunkel (*1958). Mit geduldigem, aufmerksamem Blick dokumentiert sie in ihren teilweise großformatigen Arbeiten die Vergänglichkeit des Organischen oder untersucht die flüchtigen Spuren individueller Existenzen in ver-schiedenen Erinnerungsräumen.\n\nDer Ortstermin 2020 steht ganz im Zeichen zeitlicher Vermächtnisse. Die Betrachtungen unterschiedlicher Räume und des Lebens darin wagen einen Brückenschlag zwischen Vergangenem, Gegenwart und dem, was daraus werden wird.\n\n
URL;VALUE=URI:
SUMMARY:“Es wird einmal gewesen sein”. Jutta Dunkel – Martin Rosswog 
DTSTART:20200829T080000
END:VEVENT
END:VCALENDAR