BEGIN:VCALENDAR
VERSION:2.0
PRODID:-//hacksw/handcal//NONSGML v1.0//EN
CALSCALE:GREGORIAN
BEGIN:VEVENT
DTEND:20200830T180000
UID:69e6c1becc7af
DTSTAMP:20260421T021558
LOCATION:Bahnhofstr. 62\, 40883 Ratingen
DESCRIPTION:Wanderausstellung der Stiftung Sächsische Gedenkstätten, Gedenkstätte Pirna-Sonnenstein\n\nDie Ausstellung stellt die zunehmende Ausgrenzung von Menschen mit psychischen Krankheiten oder geistigen Behinderungen in der ersten Hälfte des 20. Jahrhunderts da, die nach Kriegsbeginn 1939 zu einem systematischen Massenmord führte. Anhand von Biografien der Opfer rekonstruiert sie den Weg schlesischer Psychiater trieb Patienten nach Sachsen und ihre Ermordung im Rahmen verschiedener Tötungsaktionen. Gleichzeitig nimmt sie die Verantwortung der Täter und die nachlässige juristische Verfolgung der Verbrechen nach 1945 in den Blick.\n
URL;VALUE=URI:
SUMMARY:„Vergessene Opfer der NS-‚Euthanasie‘. Die Ermordung schlesischer Anstaltspatienten 1940-1945“ 
DTSTART:20200517T080000
END:VEVENT
END:VCALENDAR