BEGIN:VCALENDAR
VERSION:2.0
PRODID:-//hacksw/handcal//NONSGML v1.0//EN
CALSCALE:GREGORIAN
BEGIN:VEVENT
DTEND:20200802T160000
UID:69e9f96a54cf1
DTSTAMP:20260423T125018
LOCATION:Merscheider Str. 289-297\, 42699 Solingen
DESCRIPTION:Solingen ist bekannt für die Herstellung hochwertiger Messer und Scheren. Während der Industrialisierung traten Fabrikbauten an die Seite der traditionellen handwerklichen Kotten. Die Sommerführung gibt Einblicke in die Scherenproduktion um 1900. Sie führt über das Gelände der Gesenkschmiede Hendrichs. Zu den Stationen zählen Dampfmaschinenhaus, Schornstein und Dampfschleiferei und auch die Villa der Fabrikantenfamilien einschließlich der einst repräsentativen Gartenanlagen. Im Anschluss an die Führung über das Außengelände kann das Museum besucht werden.\n \nWann: 5.7., 19.7., 2.8., 16.8.2020, jeweils 15 Uhr\nDauer: eine Stunde (anschließend besteht die Möglichkeit zum individuellen Museumsbesuch).\nPreis: 6 € pro Person, der Eintritt ins Museum im Anschluss an die Führung ist enthalten.\n\nAnmeldung: kulturinfo rheinland unter Tel. 02234/9921555 oder per Mail an info@kulturinfo-rheinland.de. Die Teilnehmerzahlen sind begrenzt. 
URL;VALUE=URI:
SUMMARY:Sheddächer\, Schornsteine\, Fabrikantenvilla.  Sommerführung über das Gelände der Gesenkschmiede Hendrichs 
DTSTART:20200802T150000
END:VEVENT
END:VCALENDAR