BEGIN:VCALENDAR
VERSION:2.0
PRODID:-//hacksw/handcal//NONSGML v1.0//EN
CALSCALE:GREGORIAN
BEGIN:VEVENT
DTEND:20201222T180000
UID:69eb80dc63f51
DTSTAMP:20260424T164028
LOCATION:Im Krausfeld 10\, 53111 Bonn
DESCRIPTION:Die Namen im Titel „Eleonore, Emilie, Elise…“ stehen für die Bonner Freundin, die Komponistin Emilie Meyer (1812 1883) und eine der möglichen Geliebten Beethovens. Das Projekt im Frauenmuseum ist sicher einmalig von seiner Komposition her: informativ durch seinen Geschichtsbereich mit Bonnbezug, durch die Klangzonen, von den Video Installationen ausgehend, durch die Frauen seiner Zeit, die es den Künstlerinnen von heute besonders angetan haben. Komponistinnen, die völlig vergessen waren, kommen in Bild, Biografie und im Konzertprogramm zum Zuge. \nDoch nicht nur die Frage nach den Frauen steht im Raum, sondern auch der Männlichkeitskult um Ludwig van Beethoven (LvB), seine Musik sei die männlichste…\n\nDie thematische Ausstellung umfasst zahlreiche Arbeiten nationaler und internationaler Künstlerinnen, die im Museum zu sehen sind.\n\nUnser musikalisches Begleitprogramm verspricht abwechslungsreiche Unterhaltung über die gesamte Ausstellungsdauer und zeigt das facettenreiche Leben Ludwig van Beethovens.
URL;VALUE=URI:
SUMMARY:Eleonore\, Emilie\, Elise Beethoven und die Frage nach den Frauen
DTSTART:20200202T080000
END:VEVENT
END:VCALENDAR