BEGIN:VCALENDAR
VERSION:2.0
PRODID:-//hacksw/handcal//NONSGML v1.0//EN
CALSCALE:GREGORIAN
BEGIN:VEVENT
DTEND:20200121T160000
UID:69e6ca2759da6
DTSTAMP:20260421T025151
LOCATION:Friedrich-Wilhelm-Str. 40\, 47051 Duisburg
DESCRIPTION:Dr. Susanne Karow gewährt in der Reihe Kunst & Kaffee einen "Blick hinter die Kulissen" des Lehmbruck Museums. Interessierte Besucher*innen können dabei die Aufgaben eines Kunstmuseums und die unterschiedlichen Tätigkeitsbereiche im Museumsbetrieb kennenlernen. Anschließend sind alle Teilnehmer*innen zum Kaffee- und Kuchengenuss eingeladen. Eine Anmeldung ist erforderlich!\n\nDas Museumswesen bietet eine enorme Vielfalt an Berufsfeldern: Was macht ein Kurator? Was passiert in der Restaurierungswerkstatt und wieso gibt es im Museum eine eigene Schreinerei? Kunstvermittlerin Dr. Susanne Karow gewährt seltene Einblicke in den Arbeitsalltag eines Museums und gibt Antworten auf diese und andere Fragen. \n\nDie Teilnahmegebühr von 12 € beinhaltet Eintritt, Führung, Kaffee und Kuchen. Anmeldung erforderlich! Telefonisch unter 0203 283 3294 oder per E-Mail an info@lehmbruckmuseum.de.\n
URL;VALUE=URI:
SUMMARY:Kunst & Kaffee: Blick hinter die Kulissen
DTSTART:20200121T150000
END:VEVENT
END:VCALENDAR