BEGIN:VCALENDAR
VERSION:2.0
PRODID:-//hacksw/handcal//NONSGML v1.0//EN
CALSCALE:GREGORIAN
BEGIN:VEVENT
DTEND:20200119T170000
UID:69e9ad65e1e91
DTSTAMP:20260423T072557
LOCATION:Friedrich-Wilhelm-Str. 40\, 47051 Duisburg
DESCRIPTION:Im CITY ATELIER können interessierte Besucher*innen ein für den Expressionismus typisches Druckverfahren kennenlernen: Passend zur aktuellen Kabinettausstellung "Die Künstler der Brücke" widmet sich Friederike Winkler-Rufenach in dieser Woche dem Holzschnittverfahren. Besucher*innen dürfen sich "Grobe Schnitzer" leisten, denn der eigenen Spontaneität setzt das Holz seine Sperrigkeit entgegen. \n\nDas CITY ATELIER ist der Ort im Lehmbruck Museum, um Kunst selbst zu machen. Jeden Sonntag besteht die Möglichkeit, Künstler*innen über die Schulter zu schauen sowie verschiedene Materialien und Techniken kennenzulernen. Ohne Anmeldung, ohne viel Aufwand, ohne Altersbegrenzung – Mitmachen können alle, solange Plätze frei sind. \n\nZur Teilnahme berechtigt die Eintrittskarte ins Museum zzgl. 5 € Materialpauschale. Für Kinder unter 15 Jahren ist die Veranstaltung kostenfrei.\n
URL;VALUE=URI:
SUMMARY:CITY ATELIER: Grobe Schnitzer – Holzschnitt
DTSTART:20200119T140000
END:VEVENT
END:VCALENDAR