BEGIN:VCALENDAR
VERSION:2.0
PRODID:-//hacksw/handcal//NONSGML v1.0//EN
CALSCALE:GREGORIAN
BEGIN:VEVENT
DTEND:20210613T180000
UID:69eb3d3da0053
DTSTAMP:20260424T115157
LOCATION:Heinrich-Böll-Platz\, 50667 Köln
DESCRIPTION:Andy Warhol (1928–1987) hat mit sein­er Per­sön­lichkeit Men­schen in sei­nen Bann ge­zo­gen und po­larisiert, seine Kunst hat eine ganze Ära geprägt. Sein vielges­taltiges Werk hat die Grenzen von Malerei, Skulp­tur, Film und Musik neu definiert. Als scheuer junger Mann aus re­ligiös geprägtem Ar­beit­er*in­nen­m­i­lieu bah­nte sich Warhol sei­nen Weg in die noch vom ab­s­trak­ten Ex­pres­sion­is­mus do­minierte Kunst­welt. In seinem Früh­w­erk ste­hen per­sön­liche, oft ho­moero­tische Zeich­nun­gen neben Aufträ­gen als er­fol­greich­er Wer­beil­lus­tra­tor, mit sei­nen un­verkenn­baren Sieb­druck­bildern wird er zum In­be­griff der neuen Pop Art-Be­we­gung. Seine lebens­lange Fasz­i­na­tion galt der pop­ulären Massenkul­tur. Aber eben­so wie seine Cele­bri­ty-Porträts oder Co­ca-Co­la-Flaschen der amerikanischen Ge­sellschaft ei­nen Spiegel vorhiel­ten, ste­ht Warhol für eine di­verse, queere Ge­genkul­tur, die nicht zulet­zt in seinem New York­er Stu­dio, der Fac­to­ry, ihren Aus­druck fand.\n\nDie groß an­gelegte Auss­tel­lung beleuchtet mit über 100 Werken Warhols er­weit­erte kün­st­lerische Praxis vor dem Hin­ter­grund drän­gen­der ge­sellschaftlich­er Fra­gen. Sch­lüs­sel­w­erke wie die Elvis Pres­ley-Rei­hen oder die Far­b­vari­a­tio­nen eines Elek­trischen Stuhls sind eben­so vertreten wie weniger beachtete As­pekte, die ei­nen aktuellen Blick auf die­sen Jahrhun­dertkün­stler in ein­er Zeit poli­tisch­er und kul­tureller Um­brüche er­möglichen. Auch seine En­twick­lung als Sohn russinisch­er Im­mi­grant*in­nen in Pitts­burgh wird beleuchtet, die sich un­ter an­derem in ein­er kom­plex­en Ve­rar­bei­tung re­ligiös­er The­men und Mo­tive spiegelt.\n\nKu­ra­toren am Mu­se­um Lud­wig: Stephan Died­erich und Yil­maz Dziewior\nFür die Tate Mod­ern: Gre­gor Muir, Di­rec­tor of Col­lec­tion In­ter­na­tio­n­al Art und Fion­tán Mo­ran, As­sis­tent Cu­ra­tor\n#M­LxAndy­Warhol #warhol­now
URL;VALUE=URI:
SUMMARY:Andy Warhol. Now
DTSTART:20201212T080000
END:VEVENT
END:VCALENDAR