BEGIN:VCALENDAR
VERSION:2.0
PRODID:-//hacksw/handcal//NONSGML v1.0//EN
CALSCALE:GREGORIAN
BEGIN:VEVENT
DTEND:20191129T180000
UID:69e6f9839e553
DTSTAMP:20260421T061355
LOCATION:Hochstr. 21\, 52525 Heinsberg
DESCRIPTION:Am 16. November 2019 ist der 75. Jahrestag der Bombardierung Heinsbergs. Das Ausmaß der Zerstörung ist noch heute dadurch zu erahnen, dass historische Gebäude in der Stadt an einer Hand abgezählt werden können, darunter die Gebäude, in denen heute das Museum Begas Haus untergebracht ist. \n\nDas Begas Haus ist nun auch der Ort der Ausstellung „Wie es wirklich war - Die Zerstörungen in Heinsberg im Zweiten Weltkrieg in Zeichnungen von August Lentz“ mit Tuschezeichnungen über die Zerstörung. Die Originalzeichnungen stammen von August Lentz, Kunstlehrer und früherer Leiter des Kreisheimatmuseums sowie Mitbegründer des Heimatvereins der Heinsberger Lande und zeigen seine Eindrücke der zerstörten Stadt. \n\nDie Ausstellung wird zwei Wochen lang, bis zum 29. November 2019, im Wechselausstellungsbereich des Begas Hauses zu sehen sein. \n\nZur Ausstellung erscheint auch ein Bildband mit Fotos von den Zeichnungen und Erläuterungen zum Geschehen am 16. November 1944. 
URL;VALUE=URI:
SUMMARY:Wie es wirklich war - Die Zerstörungen in Heinsberg im Zweiten Weltkrieg in Zeichnungen von August Lentz
DTSTART:20191116T080000
END:VEVENT
END:VCALENDAR