BEGIN:VCALENDAR
VERSION:2.0
PRODID:-//hacksw/handcal//NONSGML v1.0//EN
CALSCALE:GREGORIAN
BEGIN:VEVENT
DTEND:20200216T180000
UID:69e9aa6cd11c5
DTSTAMP:20260423T071316
LOCATION:Helmut-Kohl-Allee 4\, 53113 Bonn
DESCRIPTION:Martin Kippenberger (1953–1997) war einer der medial und stilistisch vielseitigsten und wichtigsten deutschen Künstler, der die 1980er- und 1990er-Jahre maßgeblich geprägt hat. Sein Schaffen führte schon zu Lebzeiten zu einer herausragenden Position innerhalb der zeitgenössischen Kunstgeschichte und wirkt bis heute international – auch für die jüngere Künstlergeneration. Sein Werk basiert auf einer scharfen Beobachtung des alltäglichen Lebens, einer profunden Kenntnis der Kunstgeschichte und war immer eng mit seiner Biografie und seiner Haltung als Künstler verbunden. Seine Arbeiten spiegeln nur scheinbar einen unbekümmerten Dilettantismus, den er jedoch wohl durchdacht und strategisch einsetzte.\n\nSein Werk ist geprägt von überbordender, manchmal grenzüberschreitender Kreativität, großer Empathie, sowie inhaltlicher und formaler Diversität, die sich sowohl in Ernsthaftigkeit als auch in Pathos äußern kann – er war ein Meister des bewussten ‚Spiels‘, des Auslotens und Zusammenfügens.\nDie Ausstellung soll die besondere Komplexität seines Werkes in all seinen Facetten und Medien (Malerei, Skulptur, Zeichnungen, Collagen, Multiples, Plakate, Künstlerbücher) aufzeigen.
URL;VALUE=URI:
SUMMARY:Martin Kippenberger. Bitteschön Dankeschön. Eine Retrospektive
DTSTART:20191101T080000
END:VEVENT
END:VCALENDAR