BEGIN:VCALENDAR
VERSION:2.0
PRODID:-//hacksw/handcal//NONSGML v1.0//EN
CALSCALE:GREGORIAN
BEGIN:VEVENT
DTEND:20200112T180000
UID:69e58eb153a71
DTSTAMP:20260420T042553
LOCATION:Schloßstr. 1\, 41541 Dormagen-Zons
DESCRIPTION:Die Kanne ist ein Begleiter des alltäglichen Lebens. Ob morgens früh beim ersten Kaffee oder am Nachmittag beim Fünf-Uhr-Tee: Sie erweist sich als praktisches Behältnis und schöner Blickfang auf dem Tisch.\n\nDie Ausstellung "Volle Kanne!" widmet sich der jüngeren Geschichte der Kanne und ihrem Design: Warum sieht eine Kaffeekanne anders aus als eine Teekanne und welchen Einfluss auf die Kanne hat der Einzug von Kaffee und Kakao in Europa?\n\nGezeigt werden Kannen mit Schwerpunkt auf dem 20. Jahrhundert, von Gebrauchsware über Feinporzellan bis hin zu modernen Entwürfen. Kindergeschirr, kuriose und ausgefallene Formen sowie populäre Entwürfe wie die "lachende Kaffeekanne" oder Ms. Potts aus dem Disneyfilm "Die Schöne und das Biest" geben Einblick in die kulturhistorische Bedeutung der Kanne.\n\nFeine Porzellanmalereien aus Skandinavien zeigen kunstvolle und teilweise außergewöhnliche Gestaltungsmöglichkeiten. Emaillegeschirr aus einfachem Metall steht im Gegensatz dazu für die einfachen bürgerlichen Verhältnisse.\n\nDie Kanne ist eben nicht nur eine einfache Getränkeaufbewahrung, sondern Alltagsbegleiter, Designelement und Prestigeobjekt.
URL;VALUE=URI:
SUMMARY:Volle Kanne! Design und Zweck eines Alltagsbegleiters
DTSTART:20190908T080000
END:VEVENT
END:VCALENDAR