BEGIN:VCALENDAR
VERSION:2.0
PRODID:-//hacksw/handcal//NONSGML v1.0//EN
CALSCALE:GREGORIAN
BEGIN:VEVENT
DTEND:20200913T180000
UID:69ea65e50f114
DTSTAMP:20260423T203309
LOCATION:Colmantstraße 14 - 16\, 53115 Bonn
DESCRIPTION:Musik fasziniert. Weltweit. Seit es Menschen gibt. Von der 38.000 Jahre alten Schwanenknochenflöte, dem ersten Instrument der Menschheit, bis zur digitalen Musik steht das Hören und Machen von Musik und die Entwicklung ihrer Instrumente quer durch alle Kulturen und Kontinente im Mittelpunkt der Ausstellung. Auch die Exponate bleiben nicht stumm, sondern werden Teil von innovativen und klingenden Mitmachangeboten: Die Antworten auf Fragen wie "Warum gehört zum Feiern Musik?", "Was hat Sound aus Bonn mit Musik aus New York, Tokio, Kairo oder Rio de Janeiro zu tun und was unterscheidet sie?", "Klingt ‚traurig‘ überall ‚traurig‘, ‚fröhlich‘ überall ‚fröhlich‘?" können nicht nur entdeckt, sondern gehört werden. Im Zentrum steht das gemeinsame Erleben und Machen von Musik, von Beethoven bis Beyoncé und von Europa einmal rund um die Welt. In mehreren großen Aktionsräumen werden alle selbst zu Musiker*innen, Dirigent*innen, Komponist*innen und Instrumentenbauer*innen. Dazu muss man kein Instrument spielen oder Noten lesen können - Neugierde auf neue Klänge und Erlebnisse genügt!\n\nDie Ausstellung "MUSIC!" ist ein internationales Kooperationsprojekt des LVR-LandesMuseums Bonn, des Museon Den Haag, des Landesmuseums Braunschweig, des Limburgs Museum Venlo und von Northern Light Amsterdam. Die Ausstellung ist Teil des umfangreichen Jubiläumsprogramms im Rahmen von BTHVN 2020 zum 250. Geburtstage von Ludwig van Beethoven.
URL;VALUE=URI:
SUMMARY:Music! Hören – Machen – Fühlen. Eine Mitmachausstellung
DTSTART:20191121T080000
END:VEVENT
END:VCALENDAR