BEGIN:VCALENDAR
VERSION:2.0
PRODID:-//hacksw/handcal//NONSGML v1.0//EN
CALSCALE:GREGORIAN
BEGIN:VEVENT
DTEND:20200105T180000
UID:69e6bb634e6cf
DTSTAMP:20260421T014851
LOCATION:Ehrenhof 4-5\, 40479 Düsseldorf
DESCRIPTION:30 Jahre nach dem Mauerfall widmet sich der Kunstpalast in einer großen Sonderausstellung der in der DDR entstandenen Kunst. \n\nMit einer Auswahl von 13 Künstlerinnen und Künstlern und 110 Gemälden und Graphiken lenkt die Ausstellung „Utopie und Untergang. Kunst in der DDR“ den Blick auf die überraschend vielseitige und zugleich widersprüchliche Kunstepoche zwischen 1949 und 1989. In monographischen Werkgruppen werden künstlerische Positionen zwischen Anpassung und Rebellion, Affirmation und Subversion vorgestellt. Neben den bekannten, oftmals als offizielle Repräsentanten der DDR wahrgenommenen Künstlern wie Willi Sitte (1921–2013), Bernhard Heisig (1925–2011), Wolfgang Mattheuer (1927–2004) und Werner Tübke (1929–2004) zeigt die Schau auch zu entdeckende Malerinnen wie Elisabeth Voigt (1893–1977) und Angela Hampel (*1956). Wie heterogen die Kunstszene in der DDR war, wird deutlich anhand der OEuvres von Wilhelm Lachnit (1899–1962), Gerhard Altenbourg (1926–1989), Carlfriedrich Claus (1930–1998), Michael Morgner (*1942), Hermann Glöckner (1889–1987), Cornelia Schleime (*1953) oder A. R. Penck (1939–2017), dessen Werk zu großen Teilen noch vor seiner Ausbürgerung aus der DDR 1980 entstand.
URL;VALUE=URI:
SUMMARY:Utopie und Untergang. Kunst in der DDR
DTSTART:20190905T080000
END:VEVENT
END:VCALENDAR